BEGIN:VCALENDAR
VERSION:2.0
PRODID:-//Reclaim Hosting Event Calendar - ECPv6.15.18//NONSGML v1.0//EN
CALSCALE:GREGORIAN
METHOD:PUBLISH
X-ORIGINAL-URL:https://events.reclaimhosting.com
X-WR-CALDESC:Events for Reclaim Hosting Event Calendar
REFRESH-INTERVAL;VALUE=DURATION:PT1H
X-Robots-Tag:noindex
X-PUBLISHED-TTL:PT1H
BEGIN:VTIMEZONE
TZID:America/New_York
BEGIN:DAYLIGHT
TZOFFSETFROM:-0500
TZOFFSETTO:-0400
TZNAME:EDT
DTSTART:20240310T070000
END:DAYLIGHT
BEGIN:STANDARD
TZOFFSETFROM:-0400
TZOFFSETTO:-0500
TZNAME:EST
DTSTART:20241103T060000
END:STANDARD
BEGIN:DAYLIGHT
TZOFFSETFROM:-0500
TZOFFSETTO:-0400
TZNAME:EDT
DTSTART:20250309T070000
END:DAYLIGHT
BEGIN:STANDARD
TZOFFSETFROM:-0400
TZOFFSETTO:-0500
TZNAME:EST
DTSTART:20251102T060000
END:STANDARD
BEGIN:DAYLIGHT
TZOFFSETFROM:-0500
TZOFFSETTO:-0400
TZNAME:EDT
DTSTART:20260308T070000
END:DAYLIGHT
BEGIN:STANDARD
TZOFFSETFROM:-0400
TZOFFSETTO:-0500
TZNAME:EST
DTSTART:20261101T060000
END:STANDARD
END:VTIMEZONE
BEGIN:VEVENT
DTSTART;TZID=America/New_York:20251022T120000
DTEND;TZID=America/New_York:20251022T130000
DTSTAMP:20260421T052602
CREATED:20250612T145003Z
LAST-MODIFIED:20250612T145003Z
UID:10000699-1761134400-1761138000@events.reclaimhosting.com
SUMMARY:Blogging Community of Practice - Blog-A-Thon
DESCRIPTION:Get ready for Reclaim Open’s Blog-a-thon! \n\n\n                \n                        \n                            Free Registration\n                             \n                        \n                        X/TwitterThis field is for validation purposes and should be left unchanged.Name(Required)\n                            \n                            \n                                                    \n                                                    First\n                                                \n                            \n                            \n                                                    \n                                                    Last\n                                                \n                            \n                        Email(Required)\n                            \n                        Affiliation (if applicable)Blog or website URL\n                    \n                Yes\, please register me for the event(Required)\n								\n								Free registration\n							Are you a member of our Blogging  Community of Practice?If you are keen to learn more and join free\, tick this box!\n								\n								Yes\, I'd like to learn more about the community of practice\n							\n								\n								Already signed up 🙂\n							\n								\n								Other\n							\n          \n            \n            \n            \n            \n            \n            \n            \n            \n            \n            \n            \n            \n            \n        \n                        \n                        \n\nJoin the Blogging Community of Practice\nWe have a dedicated channel set up in our Discord Community Space. This is a friendly social space where everyone is welcome and which is free to join. \nGet started\n\nJoin us on Discord\n#blogging4life is our hashtag . Follow us on Mastodon\, Bluesky and YouTube.\nSubscribe to our blog to keep up to date with what’s happening\nCome along to our events\nFind out what is going on across our community
URL:https://events.reclaimhosting.com/event/blogging-community-of-practice-blog-a-thon/
CATEGORIES:Community Event
ATTACH;FMTTYPE=image/png:https://events.reclaimhosting.com/wp-content/uploads/2025/01/Events-calendar.png
END:VEVENT
END:VCALENDAR