BEGIN:VCALENDAR
VERSION:2.0
PRODID:-//Reclaim Hosting Event Calendar - ECPv6.15.18//NONSGML v1.0//EN
CALSCALE:GREGORIAN
METHOD:PUBLISH
X-WR-CALNAME:Reclaim Hosting Event Calendar
X-ORIGINAL-URL:https://events.reclaimhosting.com
X-WR-CALDESC:Events for Reclaim Hosting Event Calendar
REFRESH-INTERVAL;VALUE=DURATION:PT1H
X-Robots-Tag:noindex
X-PUBLISHED-TTL:PT1H
BEGIN:VTIMEZONE
TZID:America/New_York
BEGIN:DAYLIGHT
TZOFFSETFROM:-0500
TZOFFSETTO:-0400
TZNAME:EDT
DTSTART:20230312T070000
END:DAYLIGHT
BEGIN:STANDARD
TZOFFSETFROM:-0400
TZOFFSETTO:-0500
TZNAME:EST
DTSTART:20231105T060000
END:STANDARD
BEGIN:DAYLIGHT
TZOFFSETFROM:-0500
TZOFFSETTO:-0400
TZNAME:EDT
DTSTART:20240310T070000
END:DAYLIGHT
BEGIN:STANDARD
TZOFFSETFROM:-0400
TZOFFSETTO:-0500
TZNAME:EST
DTSTART:20241103T060000
END:STANDARD
BEGIN:DAYLIGHT
TZOFFSETFROM:-0500
TZOFFSETTO:-0400
TZNAME:EDT
DTSTART:20250309T070000
END:DAYLIGHT
BEGIN:STANDARD
TZOFFSETFROM:-0400
TZOFFSETTO:-0500
TZNAME:EST
DTSTART:20251102T060000
END:STANDARD
END:VTIMEZONE
BEGIN:VEVENT
DTSTART;TZID=America/New_York:20241206T100000
DTEND;TZID=America/New_York:20241206T110000
DTSTAMP:20260419T113701
CREATED:20241112T131503Z
LAST-MODIFIED:20241112T131503Z
UID:10000544-1733479200-1733482800@events.reclaimhosting.com
SUMMARY:Reclaim Rewind 2024: Live on Reclaim TV and Radio
DESCRIPTION:It’s a Reclaim TV and Radio Special – with the team from Reclaim. We have had quite a year and our team is coming live on air to share some of the best bits of 2024\, the drama that shook the (edtech) world and how we have come out fighting the good fight for indie edtech on the other side.  \nWatch the stream over at Reclaim TV\, or catch the recording later on archive.reclaim.tv or our YouTube channel! We’ll also be broadcasting this special on the radio!
URL:https://events.reclaimhosting.com/event/reclaim-rewind-2024-live-on-reclaim-tv-and-radio/
CATEGORIES:Reclaim Radio,Reclaim TV
ATTACH;FMTTYPE=image/png:https://events.reclaimhosting.com/wp-content/uploads/2024/10/Reclaim-TV-Wide.png
END:VEVENT
BEGIN:VEVENT
DTSTART;TZID=America/New_York:20241213T100000
DTEND;TZID=America/New_York:20241213T110000
DTSTAMP:20260419T113701
CREATED:20241112T132113Z
LAST-MODIFIED:20241112T132113Z
UID:10000545-1734084000-1734087600@events.reclaimhosting.com
SUMMARY:Reclaim Rewind 2024: Live on Reclaim TV - Case study bonanza
DESCRIPTION:It may not yet be quite time for the holidays\, but this is one cracking holiday special you don’t want to miss. Over the course of the year we have worked together with truly inspiring educators to tell their story of empowering students and staff using open edtech. This is a special bumper edition of goodness\, bringing together all the case studies into one inspirational hour on Reclaim TV.  \nWatch the stream over at Reclaim TV\, or catch the recording later on archive.reclaim.tv or our YouTube channel! \nExplore Reclaim Case Studies\nOur case studies offer quick insights into practice and products\, helping you make the most of open tools and infrastructure. With practical examples and take aways to help you navigate your own projects\, these case studies offer a way to share practice\, celebrate impact and contribute to the community. \nOpenLab at the University of New Haven: A Reclaim Case Study\nHow do you get from a single WordPress blog to building pages with students across a school or institution? Or how do you empower students on the open web using tools like OpenLab? \nThis case study charts the success story of the OpenLab at the University of New Haven\, which started as a small passion project and has grown significantly with grant funding from the Davis Educational Foundation. Find out what has happened since and how this initiative has benefited students and faculty in Higher Ed. Read the case study. \nSimon Fraser University Bulk Shared Hosting: A Reclaim Case Study\nSuzanne Norman\, Faculty of Communication\, Art and Technology at Simon Fraser University (SFU)\, and Lecturer and Industry Liaison\, and Director of SFU Publishing Workshops\, shares why and how she helps her students get their own space online with Reclaim Hosting. Read the case study. \nReclaimEDU: A Reclaim Case Study\nFor our second Reclaim Case Study production\, we wanted to pull from the knowledge and experience of our team to give you a deeper look at Reclaim’s latest and greatest… ReclaimEDU! You’ve heard about what ReclaimEDU is— our new multiregion cloud hosting service for .edu sites— but we thought you should also know how we got here. Read the case study. \nDo you have a story to tell or a project that you think would be a good fit for a Reclaim Case Study? Get in touch and let us know!
URL:https://events.reclaimhosting.com/event/reclaim-rewind-2024-live-on-reclaim-tv-case-study-bonanza/
CATEGORIES:Reclaim TV
ATTACH;FMTTYPE=image/png:https://events.reclaimhosting.com/wp-content/uploads/2024/10/Reclaim-TV-Wide.png
END:VEVENT
BEGIN:VEVENT
DTSTART;TZID=America/New_York:20241218T120000
DTEND;TZID=America/New_York:20241218T130000
DTSTAMP:20260419T113701
CREATED:20241112T132500Z
LAST-MODIFIED:20241112T132512Z
UID:10000226-1734523200-1734526800@events.reclaimhosting.com
SUMMARY:Community Chat: Rewind 2024
DESCRIPTION:For this final community chat of the year we are inviting ALL our special guests from 2024 to come together. You will hear updates of the exciting work happening across our community and have a chance to share your own highs and lows of 2024. This is our time to come together to say thank you and acknowledge and appreciate everyone who works in open edtech in Higher Education.  \nRegister for Community Chats \nNew here? Learn more about our Community Chats\nEvery month we host a video call on various topics that we call our Community Chats! Anyone is welcome\, and the format is flexible and informal. \n\nWe also have recordings of all of our past community Chats\, if you want to check them out! \n\nSign up for monthly email notifications below! We send out the video call link a few days ahead of time each month. \nRegister for Community Chats
URL:https://events.reclaimhosting.com/event/community-chat-3/
CATEGORIES:Community Chats
ATTACH;FMTTYPE=image/jpeg:https://events.reclaimhosting.com/wp-content/uploads/2023/09/cc-logo-wide.jpg
END:VEVENT
BEGIN:VEVENT
DTSTART;TZID=America/New_York:20241220T100000
DTEND;TZID=America/New_York:20241220T110000
DTSTAMP:20260419T113701
CREATED:20241112T132646Z
LAST-MODIFIED:20241112T132929Z
UID:10000546-1734688800-1734692400@events.reclaimhosting.com
SUMMARY:Reclaim Rewind 2024: Live on DS106 Radio. It’s the HOLIDAY SPECIAL
DESCRIPTION:We are inviting you to join us for the one and only edtech radio holiday special\, featuring guests from the legendary DS106 Radio Summer Camp. There is going to be story telling\, holiday tunes and\, if you are very lucky\, even a bit of festive KaraOERke. The elves are working hard on that one. So listen in and play along as we ROCK the airwaves and ring in the holidays.  \nListen to live sessions\nAll you need is a web browser. Tune in to DS106Radio and enjoy. \nJoin in the conversation\nChat with other participants in the dedicated channel in our Discord community. \nHappy Holidays from everyone at Reclaim!\nIf that wasn’t enough\, look out for a festive edition of the Reclaim Roundup\, Rewind 2024 to round off your year and see you into the holidays with GIF-tastic Season’s Greetings from everyone at Reclaim!  \nWe want to say a BIG thank you to everyone in our community for keeping the faith that keeps our servers running! Happy Holidays everyone! 
URL:https://events.reclaimhosting.com/event/reclaim-rewind-2024-live-on-ds106-radio-its-the-holiday-special/
CATEGORIES:Reclaim Radio,Reclaim TV
ATTACH;FMTTYPE=image/png:https://events.reclaimhosting.com/wp-content/uploads/2023/12/Festive-EdTech-1.png
END:VEVENT
BEGIN:VEVENT
DTSTART;VALUE=DATE:20241227
DTEND;VALUE=DATE:20241228
DTSTAMP:20260419T113701
CREATED:20241029T144111Z
LAST-MODIFIED:20241029T144112Z
UID:10000414-1735257600-1735343999@events.reclaimhosting.com
SUMMARY:Monthly Newsletter: Reclaim Roundup
DESCRIPTION:Reclaim Roundup is a monthly newsletter collecting all the work we’ve done that month\, from community events to recent blog posts to brand new support documentation. The Roundup covers announcements directly about Reclaim\, yes\, but it’ll also include updates on projects\, tutorials you can follow along with\, and community conversations that you’re invited to participate in. A lot goes on backstage at Reclaim Hosting\, and we want to share it all with you. \nSee the latest newsletter at roundup.reclaimhosting.com and subscribe here.
URL:https://events.reclaimhosting.com/event/monthly-newsletter-reclaim-roundup-2-2/2024-12-27/
CATEGORIES:Reclaim Roundup
ATTACH;FMTTYPE=image/png:https://events.reclaimhosting.com/wp-content/uploads/2023/11/reclaim-roundup-wide.png
END:VEVENT
END:VCALENDAR