BEGIN:VCALENDAR
VERSION:2.0
PRODID:-//Reclaim Hosting Event Calendar - ECPv6.15.18//NONSGML v1.0//EN
CALSCALE:GREGORIAN
METHOD:PUBLISH
X-WR-CALNAME:Reclaim Hosting Event Calendar
X-ORIGINAL-URL:https://events.reclaimhosting.com
X-WR-CALDESC:Events for Reclaim Hosting Event Calendar
REFRESH-INTERVAL;VALUE=DURATION:PT1H
X-Robots-Tag:noindex
X-PUBLISHED-TTL:PT1H
BEGIN:VTIMEZONE
TZID:America/New_York
BEGIN:DAYLIGHT
TZOFFSETFROM:-0500
TZOFFSETTO:-0400
TZNAME:EDT
DTSTART:20230312T070000
END:DAYLIGHT
BEGIN:STANDARD
TZOFFSETFROM:-0400
TZOFFSETTO:-0500
TZNAME:EST
DTSTART:20231105T060000
END:STANDARD
BEGIN:DAYLIGHT
TZOFFSETFROM:-0500
TZOFFSETTO:-0400
TZNAME:EDT
DTSTART:20240310T070000
END:DAYLIGHT
BEGIN:STANDARD
TZOFFSETFROM:-0400
TZOFFSETTO:-0500
TZNAME:EST
DTSTART:20241103T060000
END:STANDARD
BEGIN:DAYLIGHT
TZOFFSETFROM:-0500
TZOFFSETTO:-0400
TZNAME:EDT
DTSTART:20250309T070000
END:DAYLIGHT
BEGIN:STANDARD
TZOFFSETFROM:-0400
TZOFFSETTO:-0500
TZNAME:EST
DTSTART:20251102T060000
END:STANDARD
END:VTIMEZONE
BEGIN:VEVENT
DTSTART;VALUE=DATE:20241001
DTEND;VALUE=DATE:20241003
DTSTAMP:20260419T144618
CREATED:20240626T215719Z
LAST-MODIFIED:20240626T215830Z
UID:10000510-1727740800-1727913599@events.reclaimhosting.com
SUMMARY:Admin Workshop: DoOO & WPMS 101
DESCRIPTION:Reclaim Hosting is excited to be running another virtual workshop this fall focused on Domain of One’s Own and WordPress Multisite! The workshop will provide both applied training and concrete examples of both administering and teaching with Domain of One’s Own and WordPress Multisite\, along with one-on-one time with Reclaim Hosting\, as well as other present institutions. \nThe workshop is broken up into two distinct days. Day 1 will be dedicated to getting you comfortable administering and troubleshooting Domain of One’s Own\, and Day 2 will focus on WordPress Multisite. Both days will start out at 12pm ET and end by 5pm ET. You can sign up for either or both days\, whatever piques your interest! \nOn Day 1\, which is focused around Domain of One’s Own\, you can expect to learn about: \n\nThe systems that power DoOO and how they work together\nTools used to manage users and accounts in DoOO\nTroubleshooting broken sites and what to do when things aren’t working\nBuilding engagement and growing your DoOO initiative sustainably\n\nOn Day 2\, the WordPress Multisite focused day\, you can expect to learn about: \n\nThe basics of administering WordPress Multisite\nCustomizing your multisite with themes and plugins\nBuilding your Multisite out to best support your goals\nWorkflows that will save you time and effort\n\nWorkshop Cost\nYou can register for a single day of the workshop for $195 per person\, or both days at $350 per person.
URL:https://events.reclaimhosting.com/event/fall-admin-workshop-2024/
CATEGORIES:Workshops
ATTACH;FMTTYPE=image/gif:https://events.reclaimhosting.com/wp-content/uploads/2023/09/dooo-wpms101_notracking.gif
END:VEVENT
BEGIN:VEVENT
DTSTART;TZID=America/New_York:20241004T100000
DTEND;TZID=America/New_York:20241004T110000
DTSTAMP:20260419T144618
CREATED:20240924T221508Z
LAST-MODIFIED:20240924T221508Z
UID:10000522-1728036000-1728039600@events.reclaimhosting.com
SUMMARY:Reclaim TV: Looking ahead to OpenEd24
DESCRIPTION:Let’s check in with Pilot and Taylor\, who are headed to OpenEd24 next week! \nWatch the stream over at Reclaim TV\, or catch the recording later on archive.reclaim.tv or our YouTube channel!
URL:https://events.reclaimhosting.com/event/reclaim-tv-looking-ahead-to-opened24/
CATEGORIES:Reclaim TV
ATTACH;FMTTYPE=image/png:https://events.reclaimhosting.com/wp-content/uploads/2024/08/TV-logo-Reclaim-TV.png
END:VEVENT
BEGIN:VEVENT
DTSTART;TZID=America/New_York:20241011T100000
DTEND;TZID=America/New_York:20241011T110000
DTSTAMP:20260419T144618
CREATED:20240925T204255Z
LAST-MODIFIED:20240925T204344Z
UID:10000524-1728640800-1728644400@events.reclaimhosting.com
SUMMARY:Reclaim TV: St. Olaf and WPMS Blocks
DESCRIPTION:This week we’ll have some WordPress Multisite experimentation through the work at St Olaf. Bret Farley is joining us to talk through his exploration and customizations he and his team worked through to allow for St Olaf to create a custom WPMS instance for their school. \nBret Farley: https://github.com/Mr-RoBret/ \nWatch the stream over at Reclaim TV\, or catch the recording later on archive.reclaim.tv or our YouTube channel!
URL:https://events.reclaimhosting.com/event/reclaim-tv-st-olaf-and-wpms-blocks/
CATEGORIES:Reclaim TV
ATTACH;FMTTYPE=image/png:https://events.reclaimhosting.com/wp-content/uploads/2024/08/TV-logo-Reclaim-TV.png
END:VEVENT
BEGIN:VEVENT
DTSTART;TZID=America/New_York:20241016T120000
DTEND;TZID=America/New_York:20241016T130000
DTSTAMP:20260419T144618
CREATED:20240926T183359Z
LAST-MODIFIED:20240926T183606Z
UID:10000224-1729080000-1729083600@events.reclaimhosting.com
SUMMARY:October Community Chat: Looking ahead to OEGlobal24!
DESCRIPTION:This month we are joined again by Alan Levine to chat with us about the upcoming OEGlobal conference! We’ll also share some plans we are cooking up to bring the conference from Brisbane right to your neck-of-the-woods. \nSign up for monthly email notifications below! We send out the video call link a few days ahead of time each month. \nRegister for Community Chats
URL:https://events.reclaimhosting.com/event/community-chat-2024-10-16/
CATEGORIES:Community Chats
ATTACH;FMTTYPE=image/jpeg:https://events.reclaimhosting.com/wp-content/uploads/2023/09/cc-logo-wide.jpg
END:VEVENT
BEGIN:VEVENT
DTSTART;TZID=America/New_York:20241018T100000
DTEND;TZID=America/New_York:20241018T110000
DTSTAMP:20260419T144618
CREATED:20240925T204513Z
LAST-MODIFIED:20241018T140734Z
UID:10000525-1729245600-1729249200@events.reclaimhosting.com
SUMMARY:Reclaim TV: Open WebUI on Reclaim Cloud!
DESCRIPTION:Join Meredith and Taylor as they dig into the newest installer for Reclaim Cloud! \nWatch the stream over at Reclaim TV\, or catch the recording later on archive.reclaim.tv or our YouTube channel!
URL:https://events.reclaimhosting.com/event/openwebui-on-rc/
CATEGORIES:Reclaim TV
ATTACH;FMTTYPE=image/png:https://events.reclaimhosting.com/wp-content/uploads/2024/08/TV-logo-Reclaim-TV.png
END:VEVENT
BEGIN:VEVENT
DTSTART;VALUE=DATE:20241025
DTEND;VALUE=DATE:20241026
DTSTAMP:20260419T144618
CREATED:20231110T193319Z
LAST-MODIFIED:20241029T144217Z
UID:10000412-1729814400-1729900799@events.reclaimhosting.com
SUMMARY:Monthly Newsletter: Reclaim Roundup
DESCRIPTION:Reclaim Roundup is a monthly newsletter collecting all the work we’ve done that month\, from community events to recent blog posts to brand new support documentation. The Roundup covers announcements directly about Reclaim\, yes\, but it’ll also include updates on projects\, tutorials you can follow along with\, and community conversations that you’re invited to participate in. A lot goes on backstage at Reclaim Hosting\, and we want to share it all with you. \nSee the latest newsletter at roundup.reclaimhosting.com and subscribe here.
URL:https://events.reclaimhosting.com/event/monthly-newsletter-reclaim-roundup-2/2024-10-25/
CATEGORIES:Reclaim Roundup
ATTACH;FMTTYPE=image/png:https://events.reclaimhosting.com/wp-content/uploads/2023/11/reclaim-roundup-wide.png
END:VEVENT
BEGIN:VEVENT
DTSTART;TZID=America/New_York:20241025T100000
DTEND;TZID=America/New_York:20241025T110000
DTSTAMP:20260419T144618
CREATED:20240924T222322Z
LAST-MODIFIED:20240924T222431Z
UID:10000523-1729850400-1729854000@events.reclaimhosting.com
SUMMARY:Reclaim TV: The Future of Multidimensional Scholarship
DESCRIPTION:Join us as we chat with Amanda Licastro about the future of multidimensional scholarship! \nIncreasingly scholars are using immersive technologies to provide enhanced access to cultural heritage objects\, as well as designing immersive environments as pedagogical spaces for the recreation of historical and literary sites. How can we create\, sustain\, and preserve 3D and 360 degree scholarship created with 3D scanning and modeling technologies\, or created in VR and AR environments\, when our current platforms do not adequately support both viewing and long term storage of these immersive technologies? What happens when these spaces are built on or for third party platforms that will inevitably shift their models or cease to exist? What services can hosting sites like Reclaim Hosting offer academic institutions as we navigate the unanswerable questions multidimensional research poses to the world of digital scholarship? \nAmanda Licastro (she/her) is the Digital Scholarship Librarian at Swarthmore College\, the\npedagogical director of the Book Traces project\, and is an Andrew W. Mellon Junior Fellow in\nCritical Bibliography. Amanda serves on the editorial collective of the Journal of Interactive\nTechnology and Pedagogy and serves on several committees for the Modern Language\nAssociation. Her research explores the intersection of technology and writing\, including book\nhistory\, dystopian literature\, and digital humanities. You can find Amanda’s work in her co-\nedited collection\, Composition and Big Data\, as well as in Hybrid Pedagogy\, Kairos\, and Digital\nReading and Writing in Composition Studies. \nWatch the stream over at Reclaim TV\, or catch the recording later on archive.reclaim.tv or our YouTube channel!
URL:https://events.reclaimhosting.com/event/reclaim-tv-the-future-of-multidimensional-scholarship/
CATEGORIES:Reclaim TV
ATTACH;FMTTYPE=image/png:https://events.reclaimhosting.com/wp-content/uploads/2024/08/TV-logo-Reclaim-TV.png
END:VEVENT
END:VCALENDAR