BEGIN:VCALENDAR
VERSION:2.0
PRODID:-//Reclaim Hosting Event Calendar - ECPv6.15.18//NONSGML v1.0//EN
CALSCALE:GREGORIAN
METHOD:PUBLISH
X-ORIGINAL-URL:https://events.reclaimhosting.com
X-WR-CALDESC:Events for Reclaim Hosting Event Calendar
REFRESH-INTERVAL;VALUE=DURATION:PT1H
X-Robots-Tag:noindex
X-PUBLISHED-TTL:PT1H
BEGIN:VTIMEZONE
TZID:America/New_York
BEGIN:DAYLIGHT
TZOFFSETFROM:-0500
TZOFFSETTO:-0400
TZNAME:EDT
DTSTART:20230312T070000
END:DAYLIGHT
BEGIN:STANDARD
TZOFFSETFROM:-0400
TZOFFSETTO:-0500
TZNAME:EST
DTSTART:20231105T060000
END:STANDARD
BEGIN:DAYLIGHT
TZOFFSETFROM:-0500
TZOFFSETTO:-0400
TZNAME:EDT
DTSTART:20240310T070000
END:DAYLIGHT
BEGIN:STANDARD
TZOFFSETFROM:-0400
TZOFFSETTO:-0500
TZNAME:EST
DTSTART:20241103T060000
END:STANDARD
BEGIN:DAYLIGHT
TZOFFSETFROM:-0500
TZOFFSETTO:-0400
TZNAME:EDT
DTSTART:20250309T070000
END:DAYLIGHT
BEGIN:STANDARD
TZOFFSETFROM:-0400
TZOFFSETTO:-0500
TZNAME:EST
DTSTART:20251102T060000
END:STANDARD
END:VTIMEZONE
BEGIN:VEVENT
DTSTART;TZID=America/New_York:20240906T100000
DTEND;TZID=America/New_York:20240906T110000
DTSTAMP:20260419T161050
CREATED:20240830T170032Z
LAST-MODIFIED:20240830T170117Z
UID:10000518-1725616800-1725620400@events.reclaimhosting.com
SUMMARY:Reclaim TV: Looking ahead to next month's workshop!
DESCRIPTION:We’ve got an admin workshop coming up in Octoober for DoOO and WordPress Multisite admins\, so we thought now would be as good a time as any to chat about how we run our workshops and what attendees can look forward to! \nWatch the stream over at Reclaim TV\, or catch the recording later on archive.reclaim.tv or our YouTube channel!
URL:https://events.reclaimhosting.com/event/reclaim-tv-looking-ahead-to-next-workshop/
CATEGORIES:Reclaim TV
END:VEVENT
BEGIN:VEVENT
DTSTART;TZID=America/New_York:20240913T100000
DTEND;TZID=America/New_York:20240913T110000
DTSTAMP:20260419T161050
CREATED:20240830T170536Z
LAST-MODIFIED:20240830T170536Z
UID:10000519-1726221600-1726225200@events.reclaimhosting.com
SUMMARY:Reclaim TV: Mad Scientist 3d Printing - A Friday the 13th Reclaim TV Spook-tacular
DESCRIPTION:We just can’t miss a special Friday the 13th stream! Join hosts Meredith and Taylor for a spine-chilling morning on Reclaim TV as they dive into the eerie world of 3D printing. \nWatch the stream over at Reclaim TV\, or catch the recording later on archive.reclaim.tv or our YouTube channel!
URL:https://events.reclaimhosting.com/event/reclaim-tv-mad-scientist-3d-printing-a-friday-the-13th-reclaim-tv-spook-tacular/
CATEGORIES:Reclaim TV
END:VEVENT
BEGIN:VEVENT
DTSTART;TZID=America/New_York:20240918T120000
DTEND;TZID=America/New_York:20240918T130000
DTSTAMP:20260419T161050
CREATED:20240830T164312Z
LAST-MODIFIED:20240830T164931Z
UID:10000223-1726660800-1726664400@events.reclaimhosting.com
SUMMARY:Community Chat: Chatting about web archiving with the folks from Webrecorder!
DESCRIPTION:This month we are delighted to be joined by the Webrecorder team to chat about web archiving and their tool Browsertrix! \n\nSign up for monthly email notifications below! We send out the video call link a few days ahead of time each month. \nRegister for Community Chats
URL:https://events.reclaimhosting.com/event/community-chat-2024-09-18/
CATEGORIES:Community Chats
ATTACH;FMTTYPE=image/jpeg:https://events.reclaimhosting.com/wp-content/uploads/2023/09/cc-logo-wide.jpg
END:VEVENT
BEGIN:VEVENT
DTSTART;TZID=America/New_York:20240920T100000
DTEND;TZID=America/New_York:20240920T110000
DTSTAMP:20260419T161050
CREATED:20240830T170933Z
LAST-MODIFIED:20240830T171000Z
UID:10000520-1726826400-1726830000@events.reclaimhosting.com
SUMMARY:Reclaim TV: OpenLab at the University of New Haven
DESCRIPTION:We are joined by Mary Isbell to chat about how CBOX Openlab is used at the University of New Haven! \nWatch the stream over at Reclaim TV\, or catch the recording later on archive.reclaim.tv or our YouTube channel!
URL:https://events.reclaimhosting.com/event/reclaim-tv-openlab-at-the-university-of-new-haven/
CATEGORIES:Reclaim TV
END:VEVENT
BEGIN:VEVENT
DTSTART;VALUE=DATE:20240927
DTEND;VALUE=DATE:20240928
DTSTAMP:20260419T161050
CREATED:20231110T193319Z
LAST-MODIFIED:20241029T144217Z
UID:10000411-1727395200-1727481599@events.reclaimhosting.com
SUMMARY:Monthly Newsletter: Reclaim Roundup
DESCRIPTION:Reclaim Roundup is a monthly newsletter collecting all the work we’ve done that month\, from community events to recent blog posts to brand new support documentation. The Roundup covers announcements directly about Reclaim\, yes\, but it’ll also include updates on projects\, tutorials you can follow along with\, and community conversations that you’re invited to participate in. A lot goes on backstage at Reclaim Hosting\, and we want to share it all with you. \nSee the latest newsletter at roundup.reclaimhosting.com and subscribe here.
URL:https://events.reclaimhosting.com/event/monthly-newsletter-reclaim-roundup-2/2024-09-27/
CATEGORIES:Reclaim Roundup
ATTACH;FMTTYPE=image/png:https://events.reclaimhosting.com/wp-content/uploads/2023/11/reclaim-roundup-wide.png
END:VEVENT
BEGIN:VEVENT
DTSTART;TZID=America/New_York:20240927T100000
DTEND;TZID=America/New_York:20240927T110000
DTSTAMP:20260419T161050
CREATED:20240830T171421Z
LAST-MODIFIED:20240924T142636Z
UID:10000521-1727431200-1727434800@events.reclaimhosting.com
SUMMARY:Reclaim TV: Making a simple Docker container
DESCRIPTION:Let’s take a look under the hood of a docker container a bit to see how these containers work and how you can even make your own! \nWatch the stream over at Reclaim TV\, or catch the recording later on archive.reclaim.tv or our YouTube channel!
URL:https://events.reclaimhosting.com/event/reclaim-tv-making-a-simple-docker-container/
CATEGORIES:Reclaim TV
ATTACH;FMTTYPE=image/png:https://events.reclaimhosting.com/wp-content/uploads/2024/08/TV-logo-Reclaim-TV.png
END:VEVENT
END:VCALENDAR