BEGIN:VCALENDAR
VERSION:2.0
PRODID:-//Reclaim Hosting Event Calendar - ECPv6.15.18//NONSGML v1.0//EN
CALSCALE:GREGORIAN
METHOD:PUBLISH
X-ORIGINAL-URL:https://events.reclaimhosting.com
X-WR-CALDESC:Events for Reclaim Hosting Event Calendar
REFRESH-INTERVAL;VALUE=DURATION:PT1H
X-Robots-Tag:noindex
X-PUBLISHED-TTL:PT1H
BEGIN:VTIMEZONE
TZID:America/New_York
BEGIN:DAYLIGHT
TZOFFSETFROM:-0500
TZOFFSETTO:-0400
TZNAME:EDT
DTSTART:20230312T070000
END:DAYLIGHT
BEGIN:STANDARD
TZOFFSETFROM:-0400
TZOFFSETTO:-0500
TZNAME:EST
DTSTART:20231105T060000
END:STANDARD
BEGIN:DAYLIGHT
TZOFFSETFROM:-0500
TZOFFSETTO:-0400
TZNAME:EDT
DTSTART:20240310T070000
END:DAYLIGHT
BEGIN:STANDARD
TZOFFSETFROM:-0400
TZOFFSETTO:-0500
TZNAME:EST
DTSTART:20241103T060000
END:STANDARD
BEGIN:DAYLIGHT
TZOFFSETFROM:-0500
TZOFFSETTO:-0400
TZNAME:EDT
DTSTART:20250309T070000
END:DAYLIGHT
BEGIN:STANDARD
TZOFFSETFROM:-0400
TZOFFSETTO:-0500
TZNAME:EST
DTSTART:20251102T060000
END:STANDARD
END:VTIMEZONE
BEGIN:VEVENT
DTSTART;TZID=America/New_York:20240802T100000
DTEND;TZID=America/New_York:20240802T110000
DTSTAMP:20260419T174917
CREATED:20240725T053930Z
LAST-MODIFIED:20240725T053930Z
UID:10000512-1722592800-1722596400@events.reclaimhosting.com
SUMMARY:Reclaim TV: Live from WP Campus!
DESCRIPTION:We’re live from WP Campus 2024! \nWatch the stream over at Reclaim TV\, or catch the recording later on archive.reclaim.tv or our YouTube channel!
URL:https://events.reclaimhosting.com/event/reclaim-tv-live-from-wp-campus/
CATEGORIES:Reclaim TV
END:VEVENT
BEGIN:VEVENT
DTSTART;TZID=America/New_York:20240809T100000
DTEND;TZID=America/New_York:20240809T110000
DTSTAMP:20260419T174917
CREATED:20240725T054112Z
LAST-MODIFIED:20240725T054144Z
UID:10000513-1723197600-1723201200@events.reclaimhosting.com
SUMMARY:Reclaim TV: Get ready for Summer Camp!
DESCRIPTION:DS106Radio Summer Camp starts next week. Pack your bags\, campers! \nWatch the stream over at Reclaim TV\, or catch the recording later on archive.reclaim.tv or our YouTube channel!
URL:https://events.reclaimhosting.com/event/reclaim-tv-get-ready-for-summer-camp/
CATEGORIES:Reclaim TV
END:VEVENT
BEGIN:VEVENT
DTSTART;VALUE=DATE:20240812
DTEND;VALUE=DATE:20240817
DTSTAMP:20260419T174917
CREATED:20240530T133936Z
LAST-MODIFIED:20240716T145341Z
UID:10000498-1723420800-1723852799@events.reclaimhosting.com
SUMMARY:DS106Radio Summer Camp
DESCRIPTION:Imagine summer camp\, on the radio\, connecting with friends old and new as you tell stories around the campfire\, reflecting on the year that’s been and learning a whole lot along the way.  \nJoin us this August live on DS106 Radio as we go to camp. Starting on Monday\, August 12th\, we’ll be taking to the airwaves with live shows featuring edtech storytelling\, debate and our year in music. Every day for a week there’ll be live sessions sharing adventures in Higher Education and beyond as we celebrate the end of this academic year and pool our energies for the new term. \nJump into the cool\, refreshing pool of DS106 inspiration! Join us as a speaker or DJ\, or simply take your headphones\, head outside in the sunshine and tune in. It’s online conferencing…. but not as you know it. \nIt’s free to attend\, and we encourage you to bring a friend (note that the call for speakers is now closed due to high demand. Our schedule is full for this year.) \nSimply complete the form below to register and listen in! See you at the campfire.
URL:https://events.reclaimhosting.com/event/ds106radio-summer-camp/
LOCATION:Online and on the radio
ATTACH;FMTTYPE=image/jpeg:https://events.reclaimhosting.com/wp-content/uploads/2024/05/Radio-Summer-Camp-2024.jpg
END:VEVENT
BEGIN:VEVENT
DTSTART;TZID=America/New_York:20240823T100000
DTEND;TZID=America/New_York:20240823T110000
DTSTAMP:20260419T174917
CREATED:20240725T063708Z
LAST-MODIFIED:20240725T064353Z
UID:10000514-1724407200-1724410800@events.reclaimhosting.com
SUMMARY:Reclaim TV: Retro Computing 3 - Rise of the Machines
DESCRIPTION:That’s right\, Jim is back with another Windows 98 retro computing stream! Tune in to finish the trilogy! \nWatch the stream over at Reclaim TV\, or catch the recording later on archive.reclaim.tv or our YouTube channel!
URL:https://events.reclaimhosting.com/event/reclaim-tv-retro-computing-3-rise-of-the-machines/
CATEGORIES:Reclaim TV
END:VEVENT
BEGIN:VEVENT
DTSTART;VALUE=DATE:20240830
DTEND;VALUE=DATE:20240831
DTSTAMP:20260419T174917
CREATED:20231110T193319Z
LAST-MODIFIED:20241029T144217Z
UID:10000410-1724976000-1725062399@events.reclaimhosting.com
SUMMARY:Monthly Newsletter: Reclaim Roundup
DESCRIPTION:Reclaim Roundup is a monthly newsletter collecting all the work we’ve done that month\, from community events to recent blog posts to brand new support documentation. The Roundup covers announcements directly about Reclaim\, yes\, but it’ll also include updates on projects\, tutorials you can follow along with\, and community conversations that you’re invited to participate in. A lot goes on backstage at Reclaim Hosting\, and we want to share it all with you. \nSee the latest newsletter at roundup.reclaimhosting.com and subscribe here.
URL:https://events.reclaimhosting.com/event/monthly-newsletter-reclaim-roundup-2/2024-08-30/
CATEGORIES:Reclaim Roundup
ATTACH;FMTTYPE=image/png:https://events.reclaimhosting.com/wp-content/uploads/2023/11/reclaim-roundup-wide.png
END:VEVENT
BEGIN:VEVENT
DTSTART;TZID=America/New_York:20240830T100000
DTEND;TZID=America/New_York:20240830T110000
DTSTAMP:20260419T174917
CREATED:20240725T063938Z
LAST-MODIFIED:20240725T063938Z
UID:10000515-1725012000-1725015600@events.reclaimhosting.com
SUMMARY:Reclaim TV: Make your own radio station
DESCRIPTION:Missing that radio goodness after DS106Radio Summer Camp? Tune in to Reclaim TV and Taylor will show you how to set up your very own radio station! \nWatch the stream over at Reclaim TV\, or catch the recording later on archive.reclaim.tv or our YouTube channel!
URL:https://events.reclaimhosting.com/event/reclaim-tv-make-your-own-radio-station/
CATEGORIES:Reclaim TV
END:VEVENT
END:VCALENDAR