BEGIN:VCALENDAR
VERSION:2.0
PRODID:-//Reclaim Hosting Event Calendar - ECPv6.15.18//NONSGML v1.0//EN
CALSCALE:GREGORIAN
METHOD:PUBLISH
X-ORIGINAL-URL:https://events.reclaimhosting.com
X-WR-CALDESC:Events for Reclaim Hosting Event Calendar
REFRESH-INTERVAL;VALUE=DURATION:PT1H
X-Robots-Tag:noindex
X-PUBLISHED-TTL:PT1H
BEGIN:VTIMEZONE
TZID:America/New_York
BEGIN:DAYLIGHT
TZOFFSETFROM:-0500
TZOFFSETTO:-0400
TZNAME:EDT
DTSTART:20230312T070000
END:DAYLIGHT
BEGIN:STANDARD
TZOFFSETFROM:-0400
TZOFFSETTO:-0500
TZNAME:EST
DTSTART:20231105T060000
END:STANDARD
BEGIN:DAYLIGHT
TZOFFSETFROM:-0500
TZOFFSETTO:-0400
TZNAME:EDT
DTSTART:20240310T070000
END:DAYLIGHT
BEGIN:STANDARD
TZOFFSETFROM:-0400
TZOFFSETTO:-0500
TZNAME:EST
DTSTART:20241103T060000
END:STANDARD
BEGIN:DAYLIGHT
TZOFFSETFROM:-0500
TZOFFSETTO:-0400
TZNAME:EDT
DTSTART:20250309T070000
END:DAYLIGHT
BEGIN:STANDARD
TZOFFSETFROM:-0400
TZOFFSETTO:-0500
TZNAME:EST
DTSTART:20251102T060000
END:STANDARD
END:VTIMEZONE
BEGIN:VEVENT
DTSTART;TZID=America/New_York:20240607T100000
DTEND;TZID=America/New_York:20240607T110000
DTSTAMP:20260419T204507
CREATED:20240530T210525Z
LAST-MODIFIED:20240530T210525Z
UID:10000501-1717754400-1717758000@events.reclaimhosting.com
SUMMARY:Reclaim TV: Stephen Downes talks about his experiences with the cloud
DESCRIPTION:We chat with Stephen Downes about him having moved some of his sites to Reclaim Cloud and what his experience has been! \nWatch the stream over at Reclaim TV\, or catch the recording later on archive.reclaim.tv or our YouTube channel!
URL:https://events.reclaimhosting.com/event/reclaim-tv-stephen-downes-talks-about-his-experiences-with-the-cloud/
CATEGORIES:Reclaim TV
END:VEVENT
BEGIN:VEVENT
DTSTART;TZID=America/New_York:20240614T100000
DTEND;TZID=America/New_York:20240614T110000
DTSTAMP:20260419T204507
CREATED:20240530T210610Z
LAST-MODIFIED:20240530T210610Z
UID:10000502-1718359200-1718362800@events.reclaimhosting.com
SUMMARY:Reclaim TV: The Pain and Pleasure of Retro Computing with Windows 98
DESCRIPTION:Jim chats about his recent retro computing adventures! \nWatch the stream over at Reclaim TV\, or catch the recording later on archive.reclaim.tv or our YouTube channel!
URL:https://events.reclaimhosting.com/event/reclaim-tv-the-pain-and-pleasure-of-retro-computing-with-windows-98/
CATEGORIES:Reclaim TV
END:VEVENT
BEGIN:VEVENT
DTSTART;TZID=America/New_York:20240619T120000
DTEND;TZID=America/New_York:20240619T130000
DTSTAMP:20260419T204507
CREATED:20240530T204154Z
LAST-MODIFIED:20240530T204400Z
UID:10000500-1718798400-1718802000@events.reclaimhosting.com
SUMMARY:June Community Chat: Blog Post Book Club - "Necessary FUD?"
DESCRIPTION:It’s a blog post reading group\, and YOU are invited! Give Tom Woodward’s recent post Necessary FUD? a read\, then let’s talk about it. \nWe’re interested in doing more discussions about blog posts or other thought-provoking writings on technology\, education\, and related topics. If you’ve got a suggestion for something to discuss next\, or want to be part of leading the discussion\, reach out to us on Discord or on the Community Forum! \n\nSign up for monthly email notifications below! We send out the video call link a few days ahead of time each month. \nRegister for Community Chats
URL:https://events.reclaimhosting.com/event/community-chat-june-2024/
CATEGORIES:Community Chats
ATTACH;FMTTYPE=image/jpeg:https://events.reclaimhosting.com/wp-content/uploads/2023/09/cc-logo-wide.jpg
END:VEVENT
BEGIN:VEVENT
DTSTART;TZID=America/New_York:20240621T120000
DTEND;TZID=America/New_York:20240621T130000
DTSTAMP:20260419T204507
CREATED:20240530T211730Z
LAST-MODIFIED:20240530T211737Z
UID:10000503-1718971200-1718974800@events.reclaimhosting.com
SUMMARY:Reclaim TV: Marketing Reclaim Arcade with Tim
DESCRIPTION:We chat with Tim about how he has been digging into Ghost for marketing Reclaim Arcade! \nWatch the stream over at Reclaim TV\, or catch the recording later on archive.reclaim.tv or our YouTube channel!
URL:https://events.reclaimhosting.com/event/reclaim-tv-marketing-reclaim-arcade-with-tim/
CATEGORIES:Reclaim TV
END:VEVENT
BEGIN:VEVENT
DTSTART;VALUE=DATE:20240628
DTEND;VALUE=DATE:20240629
DTSTAMP:20260419T204507
CREATED:20231110T193319Z
LAST-MODIFIED:20241029T144217Z
UID:10000408-1719532800-1719619199@events.reclaimhosting.com
SUMMARY:Monthly Newsletter: Reclaim Roundup
DESCRIPTION:Reclaim Roundup is a monthly newsletter collecting all the work we’ve done that month\, from community events to recent blog posts to brand new support documentation. The Roundup covers announcements directly about Reclaim\, yes\, but it’ll also include updates on projects\, tutorials you can follow along with\, and community conversations that you’re invited to participate in. A lot goes on backstage at Reclaim Hosting\, and we want to share it all with you. \nSee the latest newsletter at roundup.reclaimhosting.com and subscribe here.
URL:https://events.reclaimhosting.com/event/monthly-newsletter-reclaim-roundup-2/2024-06-28/
CATEGORIES:Reclaim Roundup
ATTACH;FMTTYPE=image/png:https://events.reclaimhosting.com/wp-content/uploads/2023/11/reclaim-roundup-wide.png
END:VEVENT
BEGIN:VEVENT
DTSTART;TZID=America/New_York:20240628T100000
DTEND;TZID=America/New_York:20240628T110000
DTSTAMP:20260419T204507
CREATED:20240530T211941Z
LAST-MODIFIED:20240530T212118Z
UID:10000504-1719568800-1719572400@events.reclaimhosting.com
SUMMARY:Reclaim TV: A stream about how we run our streams
DESCRIPTION:It’s pretty much all in the title! Let’s break down or video workflow for ReclaimTV and how it works for us! We’ll break down the tools we use to make our own streaming platform using Owncast and Peertube\, while keeping up our presence on YouTube as well. \nWatch the stream over at Reclaim TV\, or catch the recording later on archive.reclaim.tv or our YouTube channel!
URL:https://events.reclaimhosting.com/event/reclaim-tv-a-stream-about-how-we-run-our-streams/
CATEGORIES:Reclaim TV
END:VEVENT
END:VCALENDAR