BEGIN:VCALENDAR
VERSION:2.0
PRODID:-//Reclaim Hosting Event Calendar - ECPv6.15.18//NONSGML v1.0//EN
CALSCALE:GREGORIAN
METHOD:PUBLISH
X-WR-CALNAME:Reclaim Hosting Event Calendar
X-ORIGINAL-URL:https://events.reclaimhosting.com
X-WR-CALDESC:Events for Reclaim Hosting Event Calendar
REFRESH-INTERVAL;VALUE=DURATION:PT1H
X-Robots-Tag:noindex
X-PUBLISHED-TTL:PT1H
BEGIN:VTIMEZONE
TZID:America/New_York
BEGIN:DAYLIGHT
TZOFFSETFROM:-0500
TZOFFSETTO:-0400
TZNAME:EDT
DTSTART:20230312T070000
END:DAYLIGHT
BEGIN:STANDARD
TZOFFSETFROM:-0400
TZOFFSETTO:-0500
TZNAME:EST
DTSTART:20231105T060000
END:STANDARD
BEGIN:DAYLIGHT
TZOFFSETFROM:-0500
TZOFFSETTO:-0400
TZNAME:EDT
DTSTART:20240310T070000
END:DAYLIGHT
BEGIN:STANDARD
TZOFFSETFROM:-0400
TZOFFSETTO:-0500
TZNAME:EST
DTSTART:20241103T060000
END:STANDARD
BEGIN:DAYLIGHT
TZOFFSETFROM:-0500
TZOFFSETTO:-0400
TZNAME:EDT
DTSTART:20250309T070000
END:DAYLIGHT
BEGIN:STANDARD
TZOFFSETFROM:-0400
TZOFFSETTO:-0500
TZNAME:EST
DTSTART:20251102T060000
END:STANDARD
END:VTIMEZONE
BEGIN:VEVENT
DTSTART;TZID=America/New_York:20240301T100000
DTEND;TZID=America/New_York:20240301T110000
DTSTAMP:20260420T013815
CREATED:20240130T212147Z
LAST-MODIFIED:20240320T040047Z
UID:10000473-1709287200-1709290800@events.reclaimhosting.com
SUMMARY:Reclaim TV: Using Open Source tools as key infrastructure
DESCRIPTION:Join Maren Deepwell and Anne-Marie Scott as they discuss the key considerations that need to be made when using open-source tools in key infrastructure! \nWatch the stream over at Reclaim TV\, or catch the recording later on archive.reclaim.tv or our YouTube channel!
URL:https://events.reclaimhosting.com/event/reclaim-tv-using-open-source-tools-as-key-infrastructure/
CATEGORIES:Reclaim TV
END:VEVENT
BEGIN:VEVENT
DTSTART;TZID=America/New_York:20240308T143000
DTEND;TZID=America/New_York:20240308T153000
DTSTAMP:20260420T013815
CREATED:20240229T141547Z
LAST-MODIFIED:20240301T203750Z
UID:10000481-1709908200-1709911800@events.reclaimhosting.com
SUMMARY:Reclaim TV: Simon Fraser University Bulk Shared Hosting - A Reclaim Case Study
DESCRIPTION:Amanda and Taylor sit down with Suzanne Norman of Simon Fraser University to chat about how her students get their own space online! \nWatch the stream over at Reclaim TV\, or catch the recording later on archive.reclaim.tv or our Youtube channel!
URL:https://events.reclaimhosting.com/event/sfu-case-study/
CATEGORIES:Reclaim TV
END:VEVENT
BEGIN:VEVENT
DTSTART;TZID=America/New_York:20240315T100000
DTEND;TZID=America/New_York:20240315T110000
DTSTAMP:20260420T013815
CREATED:20240229T053717Z
LAST-MODIFIED:20240320T040043Z
UID:10000476-1710496800-1710500400@events.reclaimhosting.com
SUMMARY:Reclaim TV: ReclaimEDU
DESCRIPTION:Jim and Pilot are here to chat about Reclaim’s latest foray into blazing fast\, super-reliable web hosting! \nWatch the stream over at Reclaim TV\, or catch the recording later on archive.reclaim.tv or our YouTube channel!
URL:https://events.reclaimhosting.com/event/reclaim-tv-reclaimedu-stream/
CATEGORIES:Reclaim TV
END:VEVENT
BEGIN:VEVENT
DTSTART;TZID=America/New_York:20240320T120000
DTEND;TZID=America/New_York:20240320T130000
DTSTAMP:20260420T013815
CREATED:20240229T054640Z
LAST-MODIFIED:20240311T155414Z
UID:10000217-1710936000-1710939600@events.reclaimhosting.com
SUMMARY:March Community Chat: EdTech Origin Stories
DESCRIPTION:For this month’s community chat we hope you’ll share your EdTech Origin stories! How did you get started in EdTech? Who / what / when / where was that entrypoint and what got you hooked? \n\nWe also have recordings of all of our past community Chats\, if you want to check them out! \n\nSign up for monthly email notifications below! We send out the video call link a few days ahead of time each month. \nRegister for Community Chats
URL:https://events.reclaimhosting.com/event/community-chat-2024-03/
CATEGORIES:Community Chats
ATTACH;FMTTYPE=image/png:https://events.reclaimhosting.com/wp-content/uploads/2023/09/Simple-logo-Community-Chat-768x415-1.png
END:VEVENT
BEGIN:VEVENT
DTSTART;TZID=America/New_York:20240322T100000
DTEND;TZID=America/New_York:20240322T110000
DTSTAMP:20260420T013815
CREATED:20240229T054157Z
LAST-MODIFIED:20240320T040038Z
UID:10000477-1711101600-1711105200@events.reclaimhosting.com
SUMMARY:Reclaim TV: OER Preview! Reclaiming #Edtech4life in Open Education
DESCRIPTION:How do you make innovation work when the day job as an (edtech) educator gets ever busier? Where do you find not only solutions to practical problems but someone who speaks your language? When your day job is largely edtech-focused and your focus is in practice\, not policy or research\, it can be challenging to find communities of practice that advocate for open – open in the sense of software and licencing\, but also open in the sense that the community is welcoming\, open to new ideas\, and open to change. \nOver the past 10 years our organisation has built a growing community of practice on the back of our day to day business activities. Yes\, we are a small commercial company\, but we bring a lot of expertise of working in Higher Ed to the table and we walk the walk of open education. \nIn this presentation we’ll share practical approaches inspired by communities like Equity Unbound and the ALT Open Education Special Interest Group  to connect with educators and edtechs from across the US and internationally sharing practice via community chats\, micro courses\, live streams and radio shows. We’ll share lessons learnt from running a hub for professional development every day of the year\, a place in which open educators can engage in anything from trouble-shooting wordpress installations to tinkering with next generation tools. We offer a safe space to explore with peers\, to play\, to fail and make new connections along the way. \nWatch the stream over at Reclaim TV\, or catch the recording later on archive.reclaim.tv or our YouTube channel!
URL:https://events.reclaimhosting.com/event/oer-preview/
CATEGORIES:Reclaim TV
END:VEVENT
BEGIN:VEVENT
DTSTART;TZID=America/New_York:20240326T130000
DTEND;TZID=America/New_York:20240326T140000
DTSTAMP:20260420T013815
CREATED:20240320T040013Z
LAST-MODIFIED:20240320T040133Z
UID:10000482-1711458000-1711461600@events.reclaimhosting.com
SUMMARY:Reclaim TV: Stay Tuned!
DESCRIPTION:We’ve got something we’re excited to share with you! Tune in to see the news live. \nWatch the stream over at Reclaim TV\, or catch the recording later on archive.reclaim.tv or our YouTube channel!
URL:https://events.reclaimhosting.com/event/stay-tuned/
CATEGORIES:Reclaim TV
ATTACH;FMTTYPE=image/gif:https://events.reclaimhosting.com/wp-content/uploads/2024/03/staytuned.gif
END:VEVENT
BEGIN:VEVENT
DTSTART;TZID=America/New_York:20240328T090000
DTEND;TZID=America/New_York:20240328T100000
DTSTAMP:20260420T013815
CREATED:20240229T054449Z
LAST-MODIFIED:20240320T144531Z
UID:10000478-1711616400-1711620000@events.reclaimhosting.com
SUMMARY:Reclaim TV: Greetings from OER24!
DESCRIPTION:The Reclaim crew is on the ground at OER24! \nWatch the stream over at Reclaim TV\, or catch the recording later on archive.reclaim.tv or our YouTube channel!
URL:https://events.reclaimhosting.com/event/greeting-from-oer24/
CATEGORIES:Reclaim TV
END:VEVENT
BEGIN:VEVENT
DTSTART;VALUE=DATE:20240329
DTEND;VALUE=DATE:20240330
DTSTAMP:20260420T013815
CREATED:20231110T193319Z
LAST-MODIFIED:20241029T144217Z
UID:10000405-1711670400-1711756799@events.reclaimhosting.com
SUMMARY:Monthly Newsletter: Reclaim Roundup
DESCRIPTION:Reclaim Roundup is a monthly newsletter collecting all the work we’ve done that month\, from community events to recent blog posts to brand new support documentation. The Roundup covers announcements directly about Reclaim\, yes\, but it’ll also include updates on projects\, tutorials you can follow along with\, and community conversations that you’re invited to participate in. A lot goes on backstage at Reclaim Hosting\, and we want to share it all with you. \nSee the latest newsletter at roundup.reclaimhosting.com and subscribe here.
URL:https://events.reclaimhosting.com/event/monthly-newsletter-reclaim-roundup-2/2024-03-29/
CATEGORIES:Reclaim Roundup
ATTACH;FMTTYPE=image/png:https://events.reclaimhosting.com/wp-content/uploads/2023/11/reclaim-roundup-wide.png
END:VEVENT
END:VCALENDAR