BEGIN:VCALENDAR
VERSION:2.0
PRODID:-//Reclaim Hosting Event Calendar - ECPv6.15.18//NONSGML v1.0//EN
CALSCALE:GREGORIAN
METHOD:PUBLISH
X-ORIGINAL-URL:https://events.reclaimhosting.com
X-WR-CALDESC:Events for Reclaim Hosting Event Calendar
REFRESH-INTERVAL;VALUE=DURATION:PT1H
X-Robots-Tag:noindex
X-PUBLISHED-TTL:PT1H
BEGIN:VTIMEZONE
TZID:America/New_York
BEGIN:DAYLIGHT
TZOFFSETFROM:-0500
TZOFFSETTO:-0400
TZNAME:EDT
DTSTART:20240310T070000
END:DAYLIGHT
BEGIN:STANDARD
TZOFFSETFROM:-0400
TZOFFSETTO:-0500
TZNAME:EST
DTSTART:20241103T060000
END:STANDARD
BEGIN:DAYLIGHT
TZOFFSETFROM:-0500
TZOFFSETTO:-0400
TZNAME:EDT
DTSTART:20250309T070000
END:DAYLIGHT
BEGIN:STANDARD
TZOFFSETFROM:-0400
TZOFFSETTO:-0500
TZNAME:EST
DTSTART:20251102T060000
END:STANDARD
BEGIN:DAYLIGHT
TZOFFSETFROM:-0500
TZOFFSETTO:-0400
TZNAME:EDT
DTSTART:20260308T070000
END:DAYLIGHT
BEGIN:STANDARD
TZOFFSETFROM:-0400
TZOFFSETTO:-0500
TZNAME:EST
DTSTART:20261101T060000
END:STANDARD
END:VTIMEZONE
BEGIN:VEVENT
DTSTART;TZID=America/New_York:20250411T120000
DTEND;TZID=America/New_York:20250411T130000
DTSTAMP:20260421T103502
CREATED:20250320T122659Z
LAST-MODIFIED:20250320T122659Z
UID:10000685-1744372800-1744376400@events.reclaimhosting.com
SUMMARY:Mike Caulfied and Jim Groom on Reclaim TV
DESCRIPTION:Join Mike Caulfield and Jim Groom on Reclaim TV as they talk about online writing as both laboratory for experimentation as well as an intervention. \nMike Caulfield is a research scientist at the University of Washington’s Center for an Informed Public\, where he studies the spread of online rumours and misinformation. Creator of the SIFT methodology\, he has taught thousands of teachers and students how to verify claims and sources through his workshops. We’ll be talking to Mike about his humble beginnings as a political cum edtech blogger. In particular\, we will dig into how he approaches his online writing as both laboratory for experimentation as well as an intervention into the discourse around the limits and possibilities of social media. \nWatch the stream over at Reclaim TV\, or catch the recording later on archive.reclaim.tv or our YouTube channel! \n\n\n                \n                        \n                            Free Registration\n                             \n                        \n                        FacebookThis field is for validation purposes and should be left unchanged.Name(Required)\n                            \n                            \n                                                    \n                                                    First\n                                                \n                            \n                            \n                                                    \n                                                    Last\n                                                \n                            \n                        Email(Required)\n                            \n                        Affiliation (if applicable)Blog or website URL\n                    \n                Yes\, please register me for the event(Required)\n								\n								Free registration\n							Are you a member of our Blogging  Community of Practice?If you are keen to learn more and join free\, tick this box!\n								\n								Yes\, I'd like to learn more about the community of practice\n							\n								\n								Already signed up 🙂\n							\n								\n								Other
URL:https://events.reclaimhosting.com/event/mike-caulfied-and-jim-groom-on-reclaim-tv/
CATEGORIES:Reclaim TV
ATTACH;FMTTYPE=image/png:https://events.reclaimhosting.com/wp-content/uploads/2024/10/Reclaim-TV-Wide.png
END:VEVENT
BEGIN:VEVENT
DTSTART;TZID=America/New_York:20250425T120000
DTEND;TZID=America/New_York:20250425T130000
DTSTAMP:20260421T103502
CREATED:20250320T123413Z
LAST-MODIFIED:20250321T144603Z
UID:10000686-1745582400-1745586000@events.reclaimhosting.com
SUMMARY:Amy Collier\, Tom Woodward and Jim Groom on Reclaim TV
DESCRIPTION:For this session we’ll be joined by Tom Woodward (Director of Learning Spaces and Technologies) and Amy Collier (Associate Provost for Digital Learning) of Middlebury College to discuss their online series “Demystifing AI: Big Promises\, Big Questions“. \nOne question we’ll explore is how our conception of writing will be impacted in the age of AI. Can one’s writing be discovered amongst all the noise? What’s more\, can and will AI have a blog soul? Tune in\, turn on\, and find out this and more. \nJoin Amy\, Tom and Jim on Reclaim TV for a big dose of inspiration. \nWatch the stream over at Reclaim TV\, or catch the recording later on archive.reclaim.tv or our YouTube channel! \n\n                \n                        \n                            Free Registration\n                             \n                        \n                        EmailThis field is for validation purposes and should be left unchanged.Name(Required)\n                            \n                            \n                                                    \n                                                    First\n                                                \n                            \n                            \n                                                    \n                                                    Last\n                                                \n                            \n                        Email(Required)\n                            \n                        Affiliation (if applicable)Blog or website URL\n                    \n                Yes\, please register me for the event(Required)\n								\n								Free registration\n							Are you a member of our Blogging  Community of Practice?If you are keen to learn more and join free\, tick this box!\n								\n								Yes\, I'd like to learn more about the community of practice\n							\n								\n								Already signed up 🙂\n							\n								\n								Other
URL:https://events.reclaimhosting.com/event/aimee-collier-tom-woodward-and-jim-groom-on-reclaim-tv/
CATEGORIES:Reclaim TV
ATTACH;FMTTYPE=image/png:https://events.reclaimhosting.com/wp-content/uploads/2024/10/Reclaim-TV-Wide.png
END:VEVENT
END:VCALENDAR