BEGIN:VCALENDAR
VERSION:2.0
PRODID:-//Reclaim Hosting Event Calendar - ECPv6.15.18//NONSGML v1.0//EN
CALSCALE:GREGORIAN
METHOD:PUBLISH
X-WR-CALNAME:Reclaim Hosting Event Calendar
X-ORIGINAL-URL:https://events.reclaimhosting.com
X-WR-CALDESC:Events for Reclaim Hosting Event Calendar
REFRESH-INTERVAL;VALUE=DURATION:PT1H
X-Robots-Tag:noindex
X-PUBLISHED-TTL:PT1H
BEGIN:VTIMEZONE
TZID:America/New_York
BEGIN:DAYLIGHT
TZOFFSETFROM:-0500
TZOFFSETTO:-0400
TZNAME:EDT
DTSTART:20230312T070000
END:DAYLIGHT
BEGIN:STANDARD
TZOFFSETFROM:-0400
TZOFFSETTO:-0500
TZNAME:EST
DTSTART:20231105T060000
END:STANDARD
BEGIN:DAYLIGHT
TZOFFSETFROM:-0500
TZOFFSETTO:-0400
TZNAME:EDT
DTSTART:20240310T070000
END:DAYLIGHT
BEGIN:STANDARD
TZOFFSETFROM:-0400
TZOFFSETTO:-0500
TZNAME:EST
DTSTART:20241103T060000
END:STANDARD
BEGIN:DAYLIGHT
TZOFFSETFROM:-0500
TZOFFSETTO:-0400
TZNAME:EDT
DTSTART:20250309T070000
END:DAYLIGHT
BEGIN:STANDARD
TZOFFSETFROM:-0400
TZOFFSETTO:-0500
TZNAME:EST
DTSTART:20251102T060000
END:STANDARD
END:VTIMEZONE
BEGIN:VEVENT
DTSTART;TZID=America/New_York:20241101T100000
DTEND;TZID=America/New_York:20241101T110000
DTSTAMP:20260421T171510
CREATED:20241029T143705Z
LAST-MODIFIED:20241029T144001Z
UID:10000527-1730455200-1730458800@events.reclaimhosting.com
SUMMARY:Reclaim TV: The Reclaim Firewall Project
DESCRIPTION:Tune in for a chat with Noah\, Pilot\, and Taylor about Reclaim’s latest infrastructure project\, a new distributed firewall! \nWatch the stream over at Reclaim TV\, or catch the recording later on archive.reclaim.tv or our YouTube channel!
URL:https://events.reclaimhosting.com/event/reclaim-tv-the-reclaim-firewall-project/
CATEGORIES:Reclaim TV
ATTACH;FMTTYPE=image/png:https://events.reclaimhosting.com/wp-content/uploads/2024/10/Reclaim-TV-Wide.png
END:VEVENT
BEGIN:VEVENT
DTSTART;TZID=America/New_York:20241108T100000
DTEND;TZID=America/New_York:20241108T110000
DTSTAMP:20260421T171510
CREATED:20241029T144601Z
LAST-MODIFIED:20241029T144720Z
UID:10000539-1731060000-1731063600@events.reclaimhosting.com
SUMMARY:Reclaim TV: Chatting about Archiving with Corrine & Alex from Virginia Tech
DESCRIPTION:How do you archive student work and institutional work? How do you archive work that doesn’t fit into the traditional boxes\, like programming projects\, video games\, and mixed media presentations? Join us as we chat with Corinne Guimont and Alex Kinnaman from Virginia Tech about these questions and more! \nWatch the stream over at Reclaim TV\, or catch the recording later on archive.reclaim.tv or our YouTube channel!
URL:https://events.reclaimhosting.com/event/reclaim-tv-chatting-about-archiving-with-corrine-alex-from-virginia-tech/
CATEGORIES:Reclaim TV
ATTACH;FMTTYPE=image/png:https://events.reclaimhosting.com/wp-content/uploads/2024/10/Reclaim-TV-Wide.png
END:VEVENT
BEGIN:VEVENT
DTSTART;TZID=America/New_York:20241115T100000
DTEND;TZID=America/New_York:20241115T110000
DTSTAMP:20260421T171510
CREATED:20241029T144805Z
LAST-MODIFIED:20241029T144852Z
UID:10000540-1731664800-1731668400@events.reclaimhosting.com
SUMMARY:Reclaim TV: Moving from Hugo to Ghost
DESCRIPTION:Taylor’s making a big CMS switch for his blog\, he has lots of feeling about it\, and wants to share what he’s learned. \nWatch the stream over at Reclaim TV\, or catch the recording later on archive.reclaim.tv or our YouTube channel!
URL:https://events.reclaimhosting.com/event/reclaim-tv-moving-from-hugo-to-ghost/
CATEGORIES:Reclaim TV
ATTACH;FMTTYPE=image/png:https://events.reclaimhosting.com/wp-content/uploads/2024/10/Reclaim-TV-Wide.png
END:VEVENT
BEGIN:VEVENT
DTSTART;TZID=America/New_York:20241122T100000
DTEND;TZID=America/New_York:20241122T110000
DTSTAMP:20260421T171510
CREATED:20241029T145953Z
LAST-MODIFIED:20241029T145953Z
UID:10000543-1732269600-1732273200@events.reclaimhosting.com
SUMMARY:Reclaim TV: Public Obsidian notes on cPanel
DESCRIPTION:Oh yeah\, we’re back with another Obsidian stream. This time let’s look at a static site generator that’s pretty easy to use\, and designed for Obsidian called Quartz! \nWatch the stream over at Reclaim TV\, or catch the recording later on archive.reclaim.tv or our YouTube channel!
URL:https://events.reclaimhosting.com/event/reclaim-tv-public-obsidian-notes-on-cpanel/
CATEGORIES:Reclaim TV
ATTACH;FMTTYPE=image/png:https://events.reclaimhosting.com/wp-content/uploads/2024/10/Reclaim-TV-Wide.png
END:VEVENT
END:VCALENDAR