BEGIN:VCALENDAR
VERSION:2.0
PRODID:-//Reclaim Hosting Event Calendar - ECPv6.15.18//NONSGML v1.0//EN
CALSCALE:GREGORIAN
METHOD:PUBLISH
X-WR-CALNAME:Reclaim Hosting Event Calendar
X-ORIGINAL-URL:https://events.reclaimhosting.com
X-WR-CALDESC:Events for Reclaim Hosting Event Calendar
REFRESH-INTERVAL;VALUE=DURATION:PT1H
X-Robots-Tag:noindex
X-PUBLISHED-TTL:PT1H
BEGIN:VTIMEZONE
TZID:America/New_York
BEGIN:DAYLIGHT
TZOFFSETFROM:-0500
TZOFFSETTO:-0400
TZNAME:EDT
DTSTART:20230312T070000
END:DAYLIGHT
BEGIN:STANDARD
TZOFFSETFROM:-0400
TZOFFSETTO:-0500
TZNAME:EST
DTSTART:20231105T060000
END:STANDARD
BEGIN:DAYLIGHT
TZOFFSETFROM:-0500
TZOFFSETTO:-0400
TZNAME:EDT
DTSTART:20240310T070000
END:DAYLIGHT
BEGIN:STANDARD
TZOFFSETFROM:-0400
TZOFFSETTO:-0500
TZNAME:EST
DTSTART:20241103T060000
END:STANDARD
BEGIN:DAYLIGHT
TZOFFSETFROM:-0500
TZOFFSETTO:-0400
TZNAME:EDT
DTSTART:20250309T070000
END:DAYLIGHT
BEGIN:STANDARD
TZOFFSETFROM:-0400
TZOFFSETTO:-0500
TZNAME:EST
DTSTART:20251102T060000
END:STANDARD
END:VTIMEZONE
BEGIN:VEVENT
DTSTART;TZID=America/New_York:20240105T100000
DTEND;TZID=America/New_York:20240105T110000
DTSTAMP:20260422T064613
CREATED:20231221T221044Z
LAST-MODIFIED:20231221T222219Z
UID:10000465-1704448800-1704452400@events.reclaimhosting.com
SUMMARY:Reclaim TV: Welcome Back!
DESCRIPTION:Taylor and Meredith are back from the holiday break and will be chatting about projects\, games\, and looking ahead to what’s next in the new year at Reclaim! \nJoin us over at Reclaim TV !
URL:https://events.reclaimhosting.com/event/reclaimtv-welcome-back/
CATEGORIES:Reclaim TV
END:VEVENT
BEGIN:VEVENT
DTSTART;TZID=America/New_York:20240112T100000
DTEND;TZID=America/New_York:20240112T110000
DTSTAMP:20260422T064613
CREATED:20231221T221530Z
LAST-MODIFIED:20231221T223103Z
UID:10000466-1705053600-1705057200@events.reclaimhosting.com
SUMMARY:Reclaim TV: Obsidian (pt. 2!)
DESCRIPTION:We’re big fans of Obsidian around here and have even chatted about it on Reclaim TV before! Let’s check back in with the Reclaim team on how they are using Obsidian and the power of plain text to stay organized! \nJoin us over at Reclaim TV !
URL:https://events.reclaimhosting.com/event/reclaimtv-obsidian-pt-2/
CATEGORIES:Reclaim TV
END:VEVENT
BEGIN:VEVENT
DTSTART;TZID=America/New_York:20240119T100000
DTEND;TZID=America/New_York:20240119T110000
DTSTAMP:20260422T064613
CREATED:20231221T221947Z
LAST-MODIFIED:20240118T195501Z
UID:10000467-1705658400-1705662000@events.reclaimhosting.com
SUMMARY:Reclaim TV: New Year's Resources!
DESCRIPTION:Get your semester started on the right foot and join us for this week’s stream for a guided tour of essential resources. \nJoin the stream over at Reclaim TV!
URL:https://events.reclaimhosting.com/event/reclaim-tv-reclaimedu/
CATEGORIES:Reclaim TV
END:VEVENT
BEGIN:VEVENT
DTSTART;TZID=America/New_York:20240126T100000
DTEND;TZID=America/New_York:20240126T110000
DTSTAMP:20260422T064613
CREATED:20231221T222635Z
LAST-MODIFIED:20240123T213701Z
UID:10000468-1706263200-1706266800@events.reclaimhosting.com
SUMMARY:Reclaim TV: Open-Source Security Tools and Methodologies
DESCRIPTION:Join Noah and Taylor as they talk about open-source security tools like Wazuh and Shuffle and how they help us keep our servers secure and in tip-top shape!
URL:https://events.reclaimhosting.com/event/reclaim-tv-edgeport-industrial-dns-and-security/
CATEGORIES:Reclaim TV
END:VEVENT
END:VCALENDAR