BEGIN:VCALENDAR
VERSION:2.0
PRODID:-//Reclaim Hosting Event Calendar - ECPv6.15.18//NONSGML v1.0//EN
CALSCALE:GREGORIAN
METHOD:PUBLISH
X-WR-CALNAME:Reclaim Hosting Event Calendar
X-ORIGINAL-URL:https://events.reclaimhosting.com
X-WR-CALDESC:Events for Reclaim Hosting Event Calendar
REFRESH-INTERVAL;VALUE=DURATION:PT1H
X-Robots-Tag:noindex
X-PUBLISHED-TTL:PT1H
BEGIN:VTIMEZONE
TZID:America/New_York
BEGIN:DAYLIGHT
TZOFFSETFROM:-0500
TZOFFSETTO:-0400
TZNAME:EDT
DTSTART:20240310T070000
END:DAYLIGHT
BEGIN:STANDARD
TZOFFSETFROM:-0400
TZOFFSETTO:-0500
TZNAME:EST
DTSTART:20241103T060000
END:STANDARD
BEGIN:DAYLIGHT
TZOFFSETFROM:-0500
TZOFFSETTO:-0400
TZNAME:EDT
DTSTART:20250309T070000
END:DAYLIGHT
BEGIN:STANDARD
TZOFFSETFROM:-0400
TZOFFSETTO:-0500
TZNAME:EST
DTSTART:20251102T060000
END:STANDARD
BEGIN:DAYLIGHT
TZOFFSETFROM:-0500
TZOFFSETTO:-0400
TZNAME:EDT
DTSTART:20260308T070000
END:DAYLIGHT
BEGIN:STANDARD
TZOFFSETFROM:-0400
TZOFFSETTO:-0500
TZNAME:EST
DTSTART:20261101T060000
END:STANDARD
BEGIN:DAYLIGHT
TZOFFSETFROM:-0500
TZOFFSETTO:-0400
TZNAME:EDT
DTSTART:20270314T070000
END:DAYLIGHT
BEGIN:STANDARD
TZOFFSETFROM:-0400
TZOFFSETTO:-0500
TZNAME:EST
DTSTART:20271107T060000
END:STANDARD
END:VTIMEZONE
BEGIN:VEVENT
DTSTART;TZID=America/New_York:20250521T120000
DTEND;TZID=America/New_York:20250521T130000
DTSTAMP:20260420T192019
CREATED:20250123T144631Z
LAST-MODIFIED:20250416T121810Z
UID:10000677-1747828800-1747832400@events.reclaimhosting.com
SUMMARY:Open Practice Blogging at events and conferences
DESCRIPTION:It’s conference season\, so this month we are sharing tips and support blogging around events\, sharing presentations etc. This session will be led by Meredith Huffman with special guest Chahira Nouira. Economist by training\, Chahira Nouira is currently working at the University of Göttingen\, Germany as an Instructional Designer. 18 years ago\, Chahira has started her career as an educational technologist. While working at the United Nations University (UNU)\, she contributed to European projects about Open Educational Resources. The focus of her work is the development and implementation of methods and tools that help teachers and students strengthen their digital competences and enhance collaborative teaching and learning. \nJoin us to discuss open approaches to blogging and find inspiration to blog about events you are attending. We’ll explore: \n\nOpen Practice and Blogging\nWhat makes a really good conference blog post?\nWhy blog at events?\nHow can you make use of blog posts to archive your professional development and chronicle your journey.\n\n\n\n                \n                        \n                            Free Registration\n                             \n                        \n                        CommentsThis field is for validation purposes and should be left unchanged.Name(Required)\n                            \n                            \n                                                    \n                                                    First\n                                                \n                            \n                            \n                                                    \n                                                    Last\n                                                \n                            \n                        Email(Required)\n                            \n                        Affiliation (if applicable)Blog or website URL\n                    \n                Yes\, please register me for the event(Required)\n								\n								Free registration\n							Are you a member of our Blogging  Community of Practice?If you are keen to learn more and join free\, tick this box!\n								\n								Yes\, I'd like to learn more about the community of practice\n							\n								\n								Already signed up 🙂\n							\n								\n								Other\n							\n          \n            \n            \n            \n            \n            \n            \n            \n            \n            \n            \n            \n            \n            \n        \n                        \n                        \n\nJoin the Blogging Community of Practice\nWe have a dedicated channel set up in our Discord Community Space. This is a friendly social space where everyone is welcome and which is free to join. \nGet started\n\nJoin us on Discord\n#blogging4life is our hashtag . Follow us on Mastodon\, Bluesky\, X and YouTube.\nSubscribe to our blog to keep up to date with what’s happening\nCome along to our events\nFind out what is going on across our community
URL:https://events.reclaimhosting.com/event/blogging-at-events-and-conferences/
CATEGORIES:Community Chats
ATTACH;FMTTYPE=image/png:https://events.reclaimhosting.com/wp-content/uploads/2025/01/Events-calendar.png
END:VEVENT
BEGIN:VEVENT
DTSTART;TZID=America/New_York:20260325T123000
DTEND;TZID=America/New_York:20260325T133000
DTSTAMP:20260420T192019
CREATED:20260217T134719Z
LAST-MODIFIED:20260219T131638Z
UID:10000732-1774441800-1774445400@events.reclaimhosting.com
SUMMARY:Community Chat
DESCRIPTION:Join us for the first community chat session of 2026\, with Joe Murphy! Joe’s popular session “DS106Radio\, Friday Night Tunes\, and the Ephemeral Web” at last year’s Reclaim Open conference will provide plenty of inspiration for this community chat\, in which we’ll explore the nature of ephemeral digital engagement and keeping your digital footprints stored and tracked (plus\, there’ll be plenty of musical and radio inspiration\, too). \nThis is an open event and everyone is welcome! \nHow to join  \nJoin via this link https://reclaimhosting.whereby.com/community-chat  \nThis social session takes place in Whereby\, and you don’t need to download an app as it’s a browser based platform. Check which browsers are supported and find out how to join. \nNew here? You’re welcome! \nHead over to https://community.reclaimhosting.com/ to learn more about to get involved. As well as our blog and newsletter\, you can join our social space on Discord\, and chat in community forums.\nThese live sessions are usually in a webinar format around a topic or theme\, open to all and provide a space for discussion and dialogue.
URL:https://events.reclaimhosting.com/event/community-chat/
CATEGORIES:Community Chats
ATTACH;FMTTYPE=image/png:https://events.reclaimhosting.com/wp-content/uploads/2023/09/Simple-logo-Community-Chat-768x415-1.png
END:VEVENT
END:VCALENDAR