BEGIN:VCALENDAR
VERSION:2.0
PRODID:-//Reclaim Hosting Event Calendar - ECPv6.15.18//NONSGML v1.0//EN
CALSCALE:GREGORIAN
METHOD:PUBLISH
X-WR-CALNAME:Reclaim Hosting Event Calendar
X-ORIGINAL-URL:https://events.reclaimhosting.com
X-WR-CALDESC:Events for Reclaim Hosting Event Calendar
REFRESH-INTERVAL;VALUE=DURATION:PT1H
X-Robots-Tag:noindex
X-PUBLISHED-TTL:PT1H
BEGIN:VTIMEZONE
TZID:America/New_York
BEGIN:DAYLIGHT
TZOFFSETFROM:-0500
TZOFFSETTO:-0400
TZNAME:EDT
DTSTART:20230312T070000
END:DAYLIGHT
BEGIN:STANDARD
TZOFFSETFROM:-0400
TZOFFSETTO:-0500
TZNAME:EST
DTSTART:20231105T060000
END:STANDARD
BEGIN:DAYLIGHT
TZOFFSETFROM:-0500
TZOFFSETTO:-0400
TZNAME:EDT
DTSTART:20240310T070000
END:DAYLIGHT
BEGIN:STANDARD
TZOFFSETFROM:-0400
TZOFFSETTO:-0500
TZNAME:EST
DTSTART:20241103T060000
END:STANDARD
BEGIN:DAYLIGHT
TZOFFSETFROM:-0500
TZOFFSETTO:-0400
TZNAME:EDT
DTSTART:20250309T070000
END:DAYLIGHT
BEGIN:STANDARD
TZOFFSETFROM:-0400
TZOFFSETTO:-0500
TZNAME:EST
DTSTART:20251102T060000
END:STANDARD
END:VTIMEZONE
BEGIN:VEVENT
DTSTART;TZID=America/New_York:20240117T120000
DTEND;TZID=America/New_York:20240117T130000
DTSTAMP:20260420T192427
CREATED:20231221T200613Z
LAST-MODIFIED:20231221T200629Z
UID:10000215-1705492800-1705496400@events.reclaimhosting.com
SUMMARY:January Community Chat - Your Campus in the Cloud
DESCRIPTION:Every month we host a video call on various topics that we call our Community Chats! Anyone is welcome\, and the format is flexible and informal. \nWe also have recordings of all of our past community Chats\, if you want to check them out! \n\n\n\nIn January\, Reclaim will be talking more about .edu websites and the infrastructure that goes into them. We’ve talked about it before\, months and months ago\, and now we’re bringing it back. \nNow here at Reclaim\, we’re always a fan of WordPress and a good old multiregion failover setup. But this is a Community Chat\, and we want to hear from you. What platform does your school use to manage their top-level .edu site? What are the benefits and drawbacks? If you could build it\, what would you look for? \n\n\n\nSign up for monthly email notifications below! We send out the video call link a few days ahead of time each month. \nRegister for Community Chats
URL:https://events.reclaimhosting.com/event/2024-01-community-chat/
CATEGORIES:Community Chats
ATTACH;FMTTYPE=image/png:https://events.reclaimhosting.com/wp-content/uploads/2023/09/Simple-logo-Community-Chat-768x415-1.png
END:VEVENT
END:VCALENDAR