BEGIN:VCALENDAR
VERSION:2.0
PRODID:-//Reclaim Hosting Event Calendar - ECPv6.15.18//NONSGML v1.0//EN
CALSCALE:GREGORIAN
METHOD:PUBLISH
X-ORIGINAL-URL:https://events.reclaimhosting.com
X-WR-CALDESC:Events for Reclaim Hosting Event Calendar
REFRESH-INTERVAL;VALUE=DURATION:PT1H
X-Robots-Tag:noindex
X-PUBLISHED-TTL:PT1H
BEGIN:VTIMEZONE
TZID:America/New_York
BEGIN:DAYLIGHT
TZOFFSETFROM:-0500
TZOFFSETTO:-0400
TZNAME:EDT
DTSTART:20220313T070000
END:DAYLIGHT
BEGIN:STANDARD
TZOFFSETFROM:-0400
TZOFFSETTO:-0500
TZNAME:EST
DTSTART:20221106T060000
END:STANDARD
BEGIN:DAYLIGHT
TZOFFSETFROM:-0500
TZOFFSETTO:-0400
TZNAME:EDT
DTSTART:20230312T070000
END:DAYLIGHT
BEGIN:STANDARD
TZOFFSETFROM:-0400
TZOFFSETTO:-0500
TZNAME:EST
DTSTART:20231105T060000
END:STANDARD
BEGIN:DAYLIGHT
TZOFFSETFROM:-0500
TZOFFSETTO:-0400
TZNAME:EDT
DTSTART:20240310T070000
END:DAYLIGHT
BEGIN:STANDARD
TZOFFSETFROM:-0400
TZOFFSETTO:-0500
TZNAME:EST
DTSTART:20241103T060000
END:STANDARD
END:VTIMEZONE
BEGIN:VEVENT
DTSTART;TZID=America/New_York:20231018T120000
DTEND;TZID=America/New_York:20231018T130000
DTSTAMP:20260420T232552
CREATED:20230922T042117Z
LAST-MODIFIED:20230929T131429Z
UID:10000152-1697630400-1697634000@events.reclaimhosting.com
SUMMARY:October Community Chat: Approaching Archiving in WPMS & DoOO
DESCRIPTION:Every month we host a video call on various topics that we call our Community Chats! Anyone is welcome\, and the format is flexible and informal. \n\nThis month\, our Community Chat will focus on archiving accounts and sites on WordPress Multisite and Domain of One’s Own. We will share our recommendations on how to archive accounts and sites and discuss strategies to make the process as smooth as possible. Additionally\, we will demonstrate the Site Archiving Toolkit\, a tool in Reclaim Cloud that simplifies converting sites to static HTML and webrecorder archives. This is useful for creating read-only archival copies or hosting low maintenance sites in the long term. \nWe also have recordings of all of our past community Chats\, if you want to check them out! \n\nSign up for monthly email notifications below! We send out the video call link a few days ahead of time each month. \nRegister for Community Chats
URL:https://events.reclaimhosting.com/event/community-chat-2023-10/
CATEGORIES:Community Chats
ATTACH;FMTTYPE=image/png:https://events.reclaimhosting.com/wp-content/uploads/2023/09/Simple-logo-Community-Chat-768x415-1.png
END:VEVENT
END:VCALENDAR